BEGIN:VCALENDAR
VERSION:2.0
PRODID:-//The Royal Lancers - ECPv6.15.16//NONSGML v1.0//EN
CALSCALE:GREGORIAN
METHOD:PUBLISH
X-WR-CALNAME:The Royal Lancers
X-ORIGINAL-URL:https://theroyallancers.org
X-WR-CALDESC:Events for The Royal Lancers
REFRESH-INTERVAL;VALUE=DURATION:PT1H
X-Robots-Tag:noindex
X-PUBLISHED-TTL:PT1H
BEGIN:VTIMEZONE
TZID:Europe/London
BEGIN:DAYLIGHT
TZOFFSETFROM:+0000
TZOFFSETTO:+0100
TZNAME:BST
DTSTART:20170326T010000
END:DAYLIGHT
BEGIN:STANDARD
TZOFFSETFROM:+0100
TZOFFSETTO:+0000
TZNAME:GMT
DTSTART:20171029T010000
END:STANDARD
BEGIN:DAYLIGHT
TZOFFSETFROM:+0000
TZOFFSETTO:+0100
TZNAME:BST
DTSTART:20180325T010000
END:DAYLIGHT
BEGIN:STANDARD
TZOFFSETFROM:+0100
TZOFFSETTO:+0000
TZNAME:GMT
DTSTART:20181028T010000
END:STANDARD
BEGIN:DAYLIGHT
TZOFFSETFROM:+0000
TZOFFSETTO:+0100
TZNAME:BST
DTSTART:20190331T010000
END:DAYLIGHT
BEGIN:STANDARD
TZOFFSETFROM:+0100
TZOFFSETTO:+0000
TZNAME:GMT
DTSTART:20191027T010000
END:STANDARD
END:VTIMEZONE
BEGIN:VEVENT
DTSTART;TZID=Europe/London:20180324T190000
DTEND;TZID=Europe/London:20180324T235900
DTSTAMP:20260425T040409
CREATED:20180221T175658Z
LAST-MODIFIED:20180221T175658Z
UID:7411-1521918000-1521935940@theroyallancers.org
SUMMARY:Derby Reunion
DESCRIPTION:If you are intending to attend please contact:\nGary Arnold\n07737 660307
URL:https://theroyallancers.org/event/derby-reunion/
LOCATION:The Spot\, Wilmot Street\, Derby\, DE1 2JW\, United Kingdom
CATEGORIES:Events
END:VEVENT
END:VCALENDAR