BEGIN:VCALENDAR
VERSION:2.0
PRODID:-//The Royal Lancers - ECPv6.15.16//NONSGML v1.0//EN
CALSCALE:GREGORIAN
METHOD:PUBLISH
X-WR-CALNAME:The Royal Lancers
X-ORIGINAL-URL:https://theroyallancers.org
X-WR-CALDESC:Events for The Royal Lancers
REFRESH-INTERVAL;VALUE=DURATION:PT1H
X-Robots-Tag:noindex
X-PUBLISHED-TTL:PT1H
BEGIN:VTIMEZONE
TZID:Europe/London
BEGIN:DAYLIGHT
TZOFFSETFROM:+0000
TZOFFSETTO:+0100
TZNAME:BST
DTSTART:20210328T010000
END:DAYLIGHT
BEGIN:STANDARD
TZOFFSETFROM:+0100
TZOFFSETTO:+0000
TZNAME:GMT
DTSTART:20211031T010000
END:STANDARD
BEGIN:DAYLIGHT
TZOFFSETFROM:+0000
TZOFFSETTO:+0100
TZNAME:BST
DTSTART:20220327T010000
END:DAYLIGHT
BEGIN:STANDARD
TZOFFSETFROM:+0100
TZOFFSETTO:+0000
TZNAME:GMT
DTSTART:20221030T010000
END:STANDARD
BEGIN:DAYLIGHT
TZOFFSETFROM:+0000
TZOFFSETTO:+0100
TZNAME:BST
DTSTART:20230326T010000
END:DAYLIGHT
BEGIN:STANDARD
TZOFFSETFROM:+0100
TZOFFSETTO:+0000
TZNAME:GMT
DTSTART:20231029T010000
END:STANDARD
END:VTIMEZONE
BEGIN:VEVENT
DTSTART;VALUE=DATE:20220602
DTEND;VALUE=DATE:20220603
DTSTAMP:20260425T051224
CREATED:20220225T083301Z
LAST-MODIFIED:20220307T174204Z
UID:11271-1654128000-1654214399@theroyallancers.org
SUMMARY:Platinum Jubilee - Royalty and the Regiment
DESCRIPTION:RL Museum at Thoresby will be hosting an event and exhibition on Royalty & Regiment at Thoresby  to celebrate the Queen’s Platinum Jubilee. The event\, funded by Notts County Council will consist of a Veterans breakfast followed by a big screen showing of the  Trooping The Colour. This will be followed by an event in the courtyard consisting of RL exhibition and entertainment by the South Notts Hussars Band\, live singers and stalls of various military charities. The event is open to Veterans from Nottinghamshire with a capacity of 500. \n\nVeterans Big Breakfast @ Thoresby Court Yard.\nStart 09:00am\, free breakfast roll and drink.\nLive big screen showing of Trooping the Colour.\nDaisy Belles trio live music.\nBar\, and armed forces related stalls.\nFree parking.\nBring your own blanket/chair. Invite includes partners/carers.
URL:https://theroyallancers.org/event/platinum-jubilee-royalty-and-the-regiment/
LOCATION:RL Museum – Thoresby\, Thoresby Court Yard\, Thoresby Park\, Nr Perlethorpe\, Nottinghamshire\, Newark\, Nottinghamshire\, NG22 9EP\, United Kingdom
END:VEVENT
BEGIN:VEVENT
DTSTART;VALUE=DATE:20220616
DTEND;VALUE=DATE:20220620
DTSTAMP:20260425T051224
CREATED:20180702T114844Z
LAST-MODIFIED:20220131T121132Z
UID:8243-1655337600-1655683199@theroyallancers.org
SUMMARY:Southern Smoker 2022
DESCRIPTION:If you are interested please can you send a confirmation email to :  ianpoth120@gamil.com \nSB RL VLA  hosting the 2022 “ Smoker” at Moreton Village hall on 16-19 June 22.  Camping will be available at the site from Thu 16 until Sun 19 Jun 21. Sat 18th  Smoker will have a stocked cash Bar and Fish and Chip Van www.facebook.com/kingsberekitchen and Hog Roast .  \nCosts : Adults £10 per person per night  (Campsite costs) Children under 16 Free. Day attendee costs £5 per person  (to cover facilities costs)  Free attendance for serving members Regimental Officers\, Soldier and Families ( please email to confirm campsite pitch if required) \nPayment:  By bank transfer no later than Fri 10 Jun 22  To Sort Code: 20-11-39 Ac No: 70950033  Reference RL Smoker & Surname. Also email:  Ianison2012@gmail.com to confirm numbers and campsite nights and pitches required.  A Confirmation email E Ticket will be sent. \nActivities:   1th June BBQ facilities available.  18th  Jun  0800hrs 50 mile local cycle route\, Motor Cycle Route\, Tug of War. \nClosing dates: For ticket sales will be Fri 10 June 22  Camping Tickets after will be £15 per day afterwards. However a camp site pitch can not be confirmed.  ianpoth120@gmail.com Ianison2012@gmail.com  bearwall56@Hotmail.com
URL:https://theroyallancers.org/event/lancer-smoker-2019/
LOCATION:Morton Village Hall The Common\, Dorchester DT2 8RE\, The Common\, Dorchester\, DT28RE\, United Kingdom
END:VEVENT
END:VCALENDAR